BEGIN:VCALENDAR
VERSION:2.0
PRODID:-//Urban Milwaukee - ECPv4.6.9//NONSGML v1.0//EN
CALSCALE:GREGORIAN
METHOD:PUBLISH
X-WR-CALNAME:Urban Milwaukee
X-ORIGINAL-URL:https://urbanmilwaukee.com
X-WR-CALDESC:Events for Urban Milwaukee
BEGIN:VEVENT
DTSTART;TZID=America/Chicago:20190329T193000
DTEND;TZID=America/Chicago:20190329T213000
DTSTAMP:20260423T133802
CREATED:20190312T015252Z
LAST-MODIFIED:20190312T015252Z
UID:444031-1553887800-1553895000@urbanmilwaukee.com
SUMMARY:The Pedrito Martinez Group
DESCRIPTION:Cuban born group leader\, Pedro Pablo “Pedrito” Martinez’s\, career as a leader began in 2005 with the formation in NYC of The Pedrito Martinez Group. The Pedrito Martinez Group has its roots planted firmly in the Afro-Cuban rumba tradition and in the bata rhythms and vocal chants of the music of Yoruba and Santeria. The group’s Grammy-nominated first album was released October\, 2013 and was chosen among NPR’s Favorite Albums of 2013. Don’t miss the sounds of Cuba in this exciting performance! \nAdvance Prices: $10/Seniors + Students\, $15/General Admission\, $30/Dinner and a Show. \n
URL:https://urbanmilwaukee.com/event/the-pedrito-martinez-group/
LOCATION:1028 S. 9th St.\, Milwaukee\, WI\, 53204\, United States
CATEGORIES:Arts & Entertainment
ATTACH;FMTTYPE=image/jpeg:https://urbanmilwaukee.com/wp-content/uploads/2019/03/Pedrito.jpg
END:VEVENT
END:VCALENDAR