BEGIN:VCALENDAR
VERSION:2.0
PRODID:-//Urban Milwaukee - ECPv4.6.9//NONSGML v1.0//EN
CALSCALE:GREGORIAN
METHOD:PUBLISH
X-WR-CALNAME:Urban Milwaukee
X-ORIGINAL-URL:https://urbanmilwaukee.com
X-WR-CALDESC:Events for Urban Milwaukee
BEGIN:VEVENT
DTSTART;TZID=America/Chicago:20260509T170000
DTEND;TZID=America/Chicago:20260509T170000
DTSTAMP:20260425T032309
CREATED:20250814T214821Z
LAST-MODIFIED:20250814T214821Z
UID:894062-1778346000-1778346000@urbanmilwaukee.com
SUMMARY:The Newberry Consort - Revolution!
DESCRIPTION:As the United States nears the 250th anniversary of the signing of the Declaration of Independence\, explore music from 1776 through the start of the Civil War\, performed on period instruments! This program draws on a wide variety of traditional works\, including choral and sacred instrumental music\, military music\, spirituals\, and abolitionist music. \n
URL:https://urbanmilwaukee.com/event/the-newberry-consort-revolution/
LOCATION:1501 S. Layton Blvd\, Milwaukee\, WI\, 53215\, United States
CATEGORIES:Arts & Entertainment
ATTACH;FMTTYPE=image/jpeg:https://urbanmilwaukee.com/wp-content/uploads/2025/08/EarlyMusicNow-prods-3906-full-1747196089.jpg
END:VEVENT
END:VCALENDAR