BEGIN:VCALENDAR
VERSION:2.0
PRODID:-//Urban Milwaukee - ECPv4.6.9//NONSGML v1.0//EN
CALSCALE:GREGORIAN
METHOD:PUBLISH
X-WR-CALNAME:Urban Milwaukee
X-ORIGINAL-URL:https://urbanmilwaukee.com
X-WR-CALDESC:Events for Urban Milwaukee
BEGIN:VEVENT
DTSTART;TZID=America/Chicago:20170510T190000
DTEND;TZID=America/Chicago:20170510T200000
DTSTAMP:20260420T215627
CREATED:20170501T214043Z
LAST-MODIFIED:20170501T214043Z
UID:209576-1494442800-1494446400@urbanmilwaukee.com
SUMMARY:The New Cosmos: Astronomy’s Big Discoveries
DESCRIPTION:Join us for two special talks by editors of Astronomy Magazine. First will be “The New Cosmos: Astronomy’s Big Discoveries” followed by a talk specifically on solar eclipses titled\, “The Dark Side of Science: Total Eclipse.” The 2017 Solar Eclipse is coming quite soon and this is a great opportunity to learn all about it! \n
URL:https://urbanmilwaukee.com/event/the-new-cosmos-astronomys-big-discoveries/
LOCATION:1900 E .Kenwood Blvd.\, Milwaukee\, WI\, 53211\, United States
CATEGORIES:Arts & Entertainment
ATTACH;FMTTYPE=image/png:https://urbanmilwaukee.com/wp-content/uploads/2017/05/Talk-flyer-2.png
END:VEVENT
END:VCALENDAR