BEGIN:VCALENDAR
VERSION:2.0
PRODID:-//Urban Milwaukee - ECPv4.6.9//NONSGML v1.0//EN
CALSCALE:GREGORIAN
METHOD:PUBLISH
X-WR-CALNAME:Urban Milwaukee
X-ORIGINAL-URL:https://urbanmilwaukee.com
X-WR-CALDESC:Events for Urban Milwaukee
BEGIN:VEVENT
DTSTART;TZID=America/Chicago:20221207T193000
DTEND;TZID=America/Chicago:20221207T213000
DTSTAMP:20260419T222845
CREATED:20221206T210233Z
LAST-MODIFIED:20221206T210233Z
UID:692366-1670441400-1670448600@urbanmilwaukee.com
SUMMARY:The Nativity Variations
DESCRIPTION:In a small midwestern town\, amateur theater director Jules and her experimental community theater troupe face their biggest and most ambitious challenge yet – staging the Christmas pageant at St. Ignatius Episcopal Church. As their adventurous vision for the greatest story ever told hilariously evolves to include Shakespearian comedy and even foul-mouthed puppets\, Jules – with a gentle nudge by Father Juan – is left to consider the purpose of her art and the true meaning of the holiday season. Modern cynicism meets emotional tenderness in this hilarious and heartfelt World Premiere by award-winning playwright Catherine Trieschmann (“One House Over”). The Milwaukee Repertory Theater is putting on “The Nativity Variations” at the Quadracci Powerhouse from November 16 through December 11\, 2022.  \nBy Catherine Trieschmann \nDirected by Shelley Butler \nWorld Premiere Event\nA John (Jack) D. Lewis New Play Development Program \n
URL:https://urbanmilwaukee.com/event/the-nativity-variations-3/
LOCATION:108 E. Wells St.\, Milwaukee\, WI\, 53202\, United States
CATEGORIES:Arts & Entertainment
ATTACH;FMTTYPE=image/png:https://urbanmilwaukee.com/wp-content/uploads/2022/12/Nativity-1200x900-3.png
END:VEVENT
END:VCALENDAR