BEGIN:VCALENDAR
VERSION:2.0
PRODID:-//Urban Milwaukee - ECPv4.6.9//NONSGML v1.0//EN
CALSCALE:GREGORIAN
METHOD:PUBLISH
X-WR-CALNAME:Urban Milwaukee
X-ORIGINAL-URL:https://urbanmilwaukee.com
X-WR-CALDESC:Events for Urban Milwaukee
BEGIN:VEVENT
DTSTART;TZID=America/Chicago:20191227T103000
DTEND;TZID=America/Chicago:20191227T113000
DTSTAMP:20260422T172608
CREATED:20191104T041906Z
LAST-MODIFIED:20191104T041906Z
UID:482811-1577442600-1577446200@urbanmilwaukee.com
SUMMARY:The Monarch: A Space Adventure
DESCRIPTION:Take an adventure on The Monarch\, a futuristic spaceship that will travel through the solar system in the name of science. This 45-minute contemporary musical explores Earth’s unique capacity to support life. What begins as a simple mission searching for a new form of energy turns into a quest to save life on Earth as we know it. Concepts presented include planetary science\, climate change\, sustainable energy and more! \n
URL:https://urbanmilwaukee.com/event/the-monarch-a-space-adventure/
LOCATION:1900 N. Calhoun Rd.\, Brookfield\, WI\, 53005\, United States
CATEGORIES:Arts & Entertainment
ATTACH;FMTTYPE=image/jpeg:https://urbanmilwaukee.com/wp-content/uploads/2019/11/KWT-Monarch-2.jpg
END:VEVENT
END:VCALENDAR