BEGIN:VCALENDAR
VERSION:2.0
PRODID:-//Urban Milwaukee - ECPv4.6.9//NONSGML v1.0//EN
CALSCALE:GREGORIAN
METHOD:PUBLISH
X-WR-CALNAME:Urban Milwaukee
X-ORIGINAL-URL:https://urbanmilwaukee.com
X-WR-CALDESC:Events for Urban Milwaukee
BEGIN:VEVENT
DTSTART;TZID=America/Chicago:20160909T180000
DTEND;TZID=America/Chicago:20160909T210000
DTSTAMP:20260424T073525
CREATED:20160826T001512Z
LAST-MODIFIED:20160826T001512Z
UID:177787-1473444000-1473454800@urbanmilwaukee.com
SUMMARY:The Martini Girls Present #All Mixed Up
DESCRIPTION:The Martini Girls\, Marcia Hochstetter\, Debbie Callahan\, and Marcia Hero\, are pleased to present their 4th annual art exhibit and sale\, #All Mixed Up. Thirty plus local artists have been challenged to create a mixed media work of art for this event. \nThe exhibit will open with an Artist’s reception\, Friday\, September 9th\, 2016\, from 6 to 9 p.m.\, at The Art*Bar Riverwest\, 722 E. Burleigh St.\, Milwaukee\, Wisconsin. \n
URL:https://urbanmilwaukee.com/event/the-martini-girls-present-all-mixed-up/
CATEGORIES:Arts & Entertainment
END:VEVENT
END:VCALENDAR