BEGIN:VCALENDAR
VERSION:2.0
PRODID:-//Urban Milwaukee - ECPv4.6.9//NONSGML v1.0//EN
CALSCALE:GREGORIAN
METHOD:PUBLISH
X-WR-CALNAME:Urban Milwaukee
X-ORIGINAL-URL:https://urbanmilwaukee.com
X-WR-CALDESC:Events for Urban Milwaukee
BEGIN:VEVENT
DTSTART;TZID=America/Chicago:20190404T190000
DTEND;TZID=America/Chicago:20190404T210000
DTSTAMP:20260423T054730
CREATED:20190222T135552Z
LAST-MODIFIED:20190222T135842Z
UID:442657-1554404400-1554411600@urbanmilwaukee.com
SUMMARY:The Last Cyclist
DESCRIPTION:Reconstructed and reimagined by Naomi Patz\, “The Last Cyclist” is based on a 1944 cabaret\, written by Karel Svenk in the Terezìn Concentration Camp. The scathing satire was shut down before it could be performed\, not surprising given its not-so-subtle political and emotional commentary. In this unique and provocative performance on the Nancy Kendall Theater stage\, spectators are invited inside the makeshift rehearsal space to bear witness to a show that never had an audience. \n
URL:https://urbanmilwaukee.com/event/the-last-cyclist-7/
LOCATION:6801 N. Yates Rd.\, Milwaukee\, WI\, 53217\, United States
CATEGORIES:Arts & Entertainment
ATTACH;FMTTYPE=image/jpeg:https://urbanmilwaukee.com/wp-content/uploads/2019/02/Last-Cyclist-Tile.jpg
END:VEVENT
END:VCALENDAR