BEGIN:VCALENDAR
VERSION:2.0
PRODID:-//Urban Milwaukee - ECPv4.6.9//NONSGML v1.0//EN
CALSCALE:GREGORIAN
METHOD:PUBLISH
X-WR-CALNAME:Urban Milwaukee
X-ORIGINAL-URL:https://urbanmilwaukee.com
X-WR-CALDESC:Events for Urban Milwaukee
BEGIN:VEVENT
DTSTART;TZID=America/Chicago:20220123T160000
DTEND;TZID=America/Chicago:20220123T190000
DTSTAMP:20260421T032444
CREATED:20220122T030430Z
LAST-MODIFIED:20220122T030430Z
UID:634625-1642953600-1642964400@urbanmilwaukee.com
SUMMARY:The Hungry Williams
DESCRIPTION:COVID POLICY FOR LIVE SHOWS \nWe want to ensure we are doing everything we can to help keep our community safe\, so we are now requiring the following for entry to Live Shows: \nProof of Vaccination -OR- Proof of a Negative COVID 19 Test taken within 72 hours of the show. \nMasks are encouraged but not required. \n// \nDoors at 3 p.m.\, showtime 4 p.m. \nThe Hungry Williams play jump blues and swinging R&B with a New Orleans flavor. \nJump! Swing! Meow! \nFeaturing John Carr\, Kelli Gonzalez\, Mike Sieger\, Jack Stewart\, and Joe Vent \nFree show. No ticket or registration necessary. Just show up at 4pm and dance! \nDoors at 3 p.m.\, showtime 4 p.m. \n
URL:https://urbanmilwaukee.com/event/the-hungry-williams-2/
LOCATION:224 W. Bruce St.\, Milwaukee\, WI\, 53204\, United States
CATEGORIES:Arts & Entertainment
ATTACH;FMTTYPE=image/jpeg:https://urbanmilwaukee.com/wp-content/uploads/2021/12/hungrywilliamsresize.jpeg
ORGANIZER;CN="Anodyne%20Coffee%20Roasting%20Co.":MAILTO:erica@anodynecoffee.com
END:VEVENT
END:VCALENDAR