BEGIN:VCALENDAR
VERSION:2.0
PRODID:-//Urban Milwaukee - ECPv4.6.9//NONSGML v1.0//EN
CALSCALE:GREGORIAN
METHOD:PUBLISH
X-WR-CALNAME:Urban Milwaukee
X-ORIGINAL-URL:https://urbanmilwaukee.com
X-WR-CALDESC:Events for Urban Milwaukee
BEGIN:VEVENT
DTSTART;TZID=America/Chicago:20190816T200000
DTEND;TZID=America/Chicago:20190816T230000
DTSTAMP:20260422T124545
CREATED:20190616T173458Z
LAST-MODIFIED:20190616T173458Z
UID:459338-1565985600-1565996400@urbanmilwaukee.com
SUMMARY:The Grovelers & The Mighty Deerlick on the Vista King
DESCRIPTION:Join our boat party on the Vista King with The Grovelers and The Mighty Deerlick. Two hour boat cruise with brews and cocktails (First drink is free). \nBoarding: 8:30 p.m. \nCruise: 9 p.m. to 11 p.m. \nDock: 101 W. Michigan St. \n
URL:https://urbanmilwaukee.com/event/the-grovelers-the-mighty-deerlick-on-the-vista-king/
CATEGORIES:Arts & Entertainment
ATTACH;FMTTYPE=image/jpeg:https://urbanmilwaukee.com/wp-content/uploads/2019/06/flyer.jpg
END:VEVENT
END:VCALENDAR