BEGIN:VCALENDAR
VERSION:2.0
PRODID:-//Urban Milwaukee - ECPv4.6.9//NONSGML v1.0//EN
CALSCALE:GREGORIAN
METHOD:PUBLISH
X-WR-CALNAME:Urban Milwaukee
X-ORIGINAL-URL:https://urbanmilwaukee.com
X-WR-CALDESC:Events for Urban Milwaukee
BEGIN:VEVENT
DTSTART;TZID=America/Chicago:20190425T113000
DTEND;TZID=America/Chicago:20190425T130000
DTSTAMP:20260422T182023
CREATED:20190316T182244Z
LAST-MODIFIED:20190316T182244Z
UID:443918-1556191800-1556197200@urbanmilwaukee.com
SUMMARY:The Future of College
DESCRIPTION:Join Concordia University Wisconsin as we have an in-depth discussion addressing the future of higher education and the challenges facing today’s students and workplaces. \n
URL:https://urbanmilwaukee.com/event/the-future-of-college/
LOCATION:706 S. 5th St.\, Milwaukee\, WI\, 53204\, United States
CATEGORIES:Business
ATTACH;FMTTYPE=image/jpeg:https://urbanmilwaukee.com/wp-content/uploads/2019/03/Future-of-College_YPWeekWeb.jpg
END:VEVENT
END:VCALENDAR