BEGIN:VCALENDAR
VERSION:2.0
PRODID:-//Urban Milwaukee - ECPv4.6.9//NONSGML v1.0//EN
CALSCALE:GREGORIAN
METHOD:PUBLISH
X-WR-CALNAME:Urban Milwaukee
X-ORIGINAL-URL:https://urbanmilwaukee.com
X-WR-CALDESC:Events for Urban Milwaukee
BEGIN:VEVENT
DTSTART;TZID=America/Chicago:20190330T200000
DTEND;TZID=America/Chicago:20190330T233000
DTSTAMP:20260423T102423
CREATED:20190217T160415Z
LAST-MODIFIED:20190217T160415Z
UID:437934-1553976000-1553988600@urbanmilwaukee.com
SUMMARY:The Cut Outs\, Beach Static\, Genau and Hobbyist
DESCRIPTION:The Cut-Outs formed in 2003. Hailing from Milwaukee\, WI the band has played with and opened for many great bands such as Metric\, PAWS\, Dude York\, and The Mellismatics. They have an array of influences stemming from garage rock\, post punk and indie-rock. The band has played many shows locally as well as regionally through the midwest and Chicago. \nBeach Static is a 3 piece punk garage surf band. Their debut ep Games came out in 2018. Expect to see the band carry some catchy song crafting and great melodic guitar hooks. Following it up with great live energy once they take the stage to perform their sets. Beach Static recently did a performance in December on wmse’s local live with Erin Wolf and Cal Roach. \nGenau is a Shoegaze duo consisting of Chris Belkofer and Erik Gosnell. The bands latest release Too Much came out in September of 2018. Genau has caught attention from bloggers and music stations Internationally. The music can be considered a testament to the record label 4ad. With melodic interwoven guitar loops and chugging rythmic basslines to dance along to. \nHobbyist hails from Chicago. Their latest release Sonic Cramps came out in early 2018. This Alternative\, Post Rock N’ Roll punk band mixes styles with a slick formula. Catching a buzz and media attention throughout Chicago and the midwest. The band has also toured and played shows throughout Europe. \n$8 advance tix available and $10 at the door \n
URL:https://urbanmilwaukee.com/event/the-cut-outs-beach-static-genau-and-hobbyist/
LOCATION:224 W. Bruce St.\, Milwaukee\, WI\, 53204\, United States
CATEGORIES:Arts & Entertainment
ATTACH;FMTTYPE=image/jpeg:https://urbanmilwaukee.com/wp-content/uploads/2019/01/3.30.19_TheCutOuts.jpg
END:VEVENT
END:VCALENDAR