BEGIN:VCALENDAR
VERSION:2.0
PRODID:-//Urban Milwaukee - ECPv4.6.9//NONSGML v1.0//EN
CALSCALE:GREGORIAN
METHOD:PUBLISH
X-WR-CALNAME:Urban Milwaukee
X-ORIGINAL-URL:https://urbanmilwaukee.com
X-WR-CALDESC:Events for Urban Milwaukee
BEGIN:VEVENT
DTSTART;TZID=America/Chicago:20161021T193000
DTEND;TZID=America/Chicago:20161021T210000
DTSTAMP:20260424T114923
CREATED:20161007T182908Z
LAST-MODIFIED:20161007T182908Z
UID:184392-1477078200-1477083600@urbanmilwaukee.com
SUMMARY:The Breath of Creativity: How Things Come to Be
DESCRIPTION:This event is part of the Wisconsin Science Festival. \nWhere do ideas come from? Are they always there\, waiting to be discovered\, or does our brain manufacture them? Find out in this installment of SoundWaves. The program presents a common thread in short talks from UW-Milwaukee faculty members in philosophy\, architecture and history; a UW–Madison music faculty member; and a jazz pianist. \nSoundWaves is a series from UW–Madison that combines talks about science\, geared to the layman\, with music performances. \n
URL:https://urbanmilwaukee.com/event/the-breath-of-creativity-how-things-come-to-be/
CATEGORIES:Arts & Entertainment
ATTACH;FMTTYPE=image/jpeg:https://urbanmilwaukee.com/wp-content/uploads/2016/09/creat.jpg
END:VEVENT
END:VCALENDAR