BEGIN:VCALENDAR
VERSION:2.0
PRODID:-//Urban Milwaukee - ECPv4.6.9//NONSGML v1.0//EN
CALSCALE:GREGORIAN
METHOD:PUBLISH
X-WR-CALNAME:Urban Milwaukee
X-ORIGINAL-URL:https://urbanmilwaukee.com
X-WR-CALDESC:Events for Urban Milwaukee
BEGIN:VEVENT
DTSTART;VALUE=DATE:20161025
DTEND;VALUE=DATE:20161031
DTSTAMP:20260424T105118
CREATED:20160415T193101Z
LAST-MODIFIED:20161024T014648Z
UID:157870-1477353600-1477871999@urbanmilwaukee.com
SUMMARY:The Book of Mormon
DESCRIPTION:Hailed by The New York Times as “the best musical of this century” and the winner of nine Tony Awards®\, THE BOOK OF MORMON is the blockbuster Broadway smash from South Park creators Trey Parker and Matt Stone\, and the Oscar®-winning composer of Disney’s Frozen and Avenue Q\, Bobby Lopez. \n
URL:https://urbanmilwaukee.com/event/the-book-of-mormon/
LOCATION:929 N. Water St.\, Milwaukee\, WI\, 53202\, United States
CATEGORIES:Arts & Entertainment
END:VEVENT
END:VCALENDAR