BEGIN:VCALENDAR
VERSION:2.0
PRODID:-//Urban Milwaukee - ECPv4.6.9//NONSGML v1.0//EN
CALSCALE:GREGORIAN
METHOD:PUBLISH
X-WR-CALNAME:Urban Milwaukee
X-ORIGINAL-URL:https://urbanmilwaukee.com
X-WR-CALDESC:Events for Urban Milwaukee
BEGIN:VEVENT
DTSTART;TZID=America/Chicago:20171007T183000
DTEND;TZID=America/Chicago:20171007T235500
DTSTAMP:20260423T232901
CREATED:20170921T222435Z
LAST-MODIFIED:20170921T222435Z
UID:375700-1507401000-1507420500@urbanmilwaukee.com
SUMMARY:The Betty Brinn Children's Museum's Annual Gala
DESCRIPTION:The Betty Brinn Children’s Museum will host its largest annual fundraiser on Saturday\, October 7 with proceeds supporting their outreach initiatives that provide free parent engagement\, school readiness\, admission and transportation assistance programs\, and family events that benefit 80\,000 children and adults each year. Enjoy a special evening in the Museum’s exhibits with an elegant dinner by Shully’s Cuisine & Events\, a silent auction and live music by the Michael Walters Orchestra. Tickets\, tables and sponsorship information is available at www.bbcmkids.org/gala or by calling 414-390-5437\, ext. 237. \n
URL:https://urbanmilwaukee.com/event/the-betty-brinn-childrens-museums-annual-gala/
CATEGORIES:Arts & Entertainment
ATTACH;FMTTYPE=image/jpeg:https://urbanmilwaukee.com/wp-content/uploads/2017/09/Webtile.jpg
END:VEVENT
END:VCALENDAR