BEGIN:VCALENDAR
VERSION:2.0
PRODID:-//Urban Milwaukee - ECPv4.6.9//NONSGML v1.0//EN
CALSCALE:GREGORIAN
METHOD:PUBLISH
X-WR-CALNAME:Urban Milwaukee
X-ORIGINAL-URL:https://urbanmilwaukee.com
X-WR-CALDESC:Events for Urban Milwaukee
BEGIN:VEVENT
DTSTART;TZID=America/Chicago:20180914T193000
DTEND;TZID=America/Chicago:20180914T210000
DTSTAMP:20260424T144200
CREATED:20180913T110636Z
LAST-MODIFIED:20180913T110636Z
UID:408787-1536953400-1536958800@urbanmilwaukee.com
SUMMARY:The Bellamy Brothers
DESCRIPTION:Currently celebrating 40 years of success\, the Bellamy Brothers have been a picture of consistency in Country music; crafting honest\, heartfelt songs that have connected with millions of listeners around the world. This Grammy-nominated duo’s patented blend of rock/country music has produced 14 #1 singles and included such notable classics as “Let Your Love Flow\,” “Redneck Girl\,” “If I Said You Had A Beautiful Body (Would You Hold It Against Me)\,” “Sugar Daddy\,” and “Lovers Live Longer.” Returning for the second time\, the Bellamy Brothers prove that the love still flows for them here at the Schauer. \n
URL:https://urbanmilwaukee.com/event/the-bellamy-brothers/
LOCATION:147 N. Rural St.\, Hartford\, WI\, 53027\, United States
CATEGORIES:Arts & Entertainment
ATTACH;FMTTYPE=image/jpeg:https://urbanmilwaukee.com/wp-content/uploads/2018/06/bellamy-1440.jpg
END:VEVENT
END:VCALENDAR