BEGIN:VCALENDAR
VERSION:2.0
PRODID:-//Urban Milwaukee - ECPv4.6.9//NONSGML v1.0//EN
CALSCALE:GREGORIAN
METHOD:PUBLISH
X-WR-CALNAME:Urban Milwaukee
X-ORIGINAL-URL:https://urbanmilwaukee.com
X-WR-CALDESC:Events for Urban Milwaukee
BEGIN:VEVENT
DTSTART;TZID=America/Chicago:20210612T130000
DTEND;TZID=America/Chicago:20210612T170000
DTSTAMP:20260421T133335
CREATED:20210503T005729Z
LAST-MODIFIED:20210503T005748Z
UID:596777-1623502800-1623517200@urbanmilwaukee.com
SUMMARY:The 13th Annual Great Midwest Book Fest
DESCRIPTION:UrbanReviewsOnline.com presents the 13th Annual Virtual Great Midwest Book Fest on Saturday\, June 12\, 2021 from 1 p.m.- 5 p.m. on Zoom. It is a free to the public virtual event for the attendees. Each attendee that registers and attends the book bash will get one free ebook. The featured authors for this event are National Bestselling authors include Donna Hill\, Naleighna Kai\, LaJill Hunt\, and Jeffery Roshell. Other authors include National Bestselling author Pat Simmons\, Untamed\, Shawneda Crout\, Ebony Farashuu\, Shelia Bell\, Kimani Lauren\, Rhonda McKnight\, Kendy Ward\, Bonnie J. Edwards and Eve Alexander. \nEach author will have 10 minutes to tell everyone about themselves or their books and they will include a link for attendees to purchase their books online. This will be followed by a Q&A. Also\, there will be an author pitch session\, games\, and giveaways. More info to come! \nYOU MUST REGISTER ON EVENTBRITE FOR TICKETS : http://bit.ly/GMBF2021 \n
URL:https://urbanmilwaukee.com/event/the-13th-annual-great-midwest-book-fest/
CATEGORIES:Arts & Entertainment,Virtual
ATTACH;FMTTYPE=image/jpeg:https://urbanmilwaukee.com/wp-content/uploads/2021/04/D827F043-84FE-41A0-98B2-027DB194D2DF.jpeg
END:VEVENT
END:VCALENDAR