BEGIN:VCALENDAR
VERSION:2.0
PRODID:-//Urban Milwaukee - ECPv4.6.9//NONSGML v1.0//EN
CALSCALE:GREGORIAN
METHOD:PUBLISH
X-WR-CALNAME:Urban Milwaukee
X-ORIGINAL-URL:https://urbanmilwaukee.com
X-WR-CALDESC:Events for Urban Milwaukee
BEGIN:VEVENT
DTSTART;TZID=America/Chicago:20171123T170000
DTEND;TZID=America/Chicago:20171123T210000
DTSTAMP:20260423T174604
CREATED:20171019T200944Z
LAST-MODIFIED:20171019T200944Z
UID:379436-1511456400-1511470800@urbanmilwaukee.com
SUMMARY:Thanksgiving at Milwaukee ChopHouse
DESCRIPTION:Join us at the Milwaukee ChopHouse for a thoughtfully prepared Thanksgiving feast on Thursday November 23rd. Our chef will be serving a beautiful three-course pre-fixe menu. It will play on the traditional Thanksgiving meal along with special added touches and a glass of wine for $45 per guest. Come give thanks at the ChopHouse! \n
URL:https://urbanmilwaukee.com/event/thanksgiving-at-milwaukee-chophouse/
CATEGORIES:Food & Drink
ATTACH;FMTTYPE=image/jpeg:https://urbanmilwaukee.com/wp-content/uploads/2017/09/RS16033_MilwaukeeChopHouse1-2.jpg
END:VEVENT
END:VCALENDAR