BEGIN:VCALENDAR
VERSION:2.0
PRODID:-//Urban Milwaukee - ECPv4.6.9//NONSGML v1.0//EN
CALSCALE:GREGORIAN
METHOD:PUBLISH
X-WR-CALNAME:Urban Milwaukee
X-ORIGINAL-URL:https://urbanmilwaukee.com
X-WR-CALDESC:Events for Urban Milwaukee
BEGIN:VEVENT
DTSTART;TZID=America/Chicago:20210208T180000
DTEND;TZID=America/Chicago:20210208T190000
DTSTAMP:20260421T174319
CREATED:20210118T234619Z
LAST-MODIFIED:20210118T234619Z
UID:573027-1612807200-1612810800@urbanmilwaukee.com
SUMMARY:Tempeh\, 3 Ways
DESCRIPTION:Join me\, Chef Melanie Manuel\, in the dining room of Celesta Restaurant\, for a cooking demonstration. I will show you how to prepare tempeh\, a healthful and delicious plant based protein\, three different ways. Learn how to make a TLT- Tempeh\, Lettuce and Tomato Sandwich\, Tempeh with Rice and Golden Sauce\, and Crumbled Tempeh Tacos. \nI will be hosting this event on Instagram Live. \nThis virtual event is free to all\, but we would greatly appreciate donations in support of the Black Holocaust Museum. The BHM is a historical and memorial museum founded by a lynching survivor. It is an important space for our city and our country. \n
URL:https://urbanmilwaukee.com/event/tempeh-3-ways/
CATEGORIES:Food & Drink,Fundraiser,Virtual
ATTACH;FMTTYPE=image/jpeg:https://urbanmilwaukee.com/wp-content/uploads/2021/01/event-featured-MEL-1610719792-720x900.jpeg
END:VEVENT
END:VCALENDAR