BEGIN:VCALENDAR
VERSION:2.0
PRODID:-//Urban Milwaukee - ECPv4.6.9//NONSGML v1.0//EN
CALSCALE:GREGORIAN
METHOD:PUBLISH
X-WR-CALNAME:Urban Milwaukee
X-ORIGINAL-URL:https://urbanmilwaukee.com
X-WR-CALDESC:Events for Urban Milwaukee
BEGIN:VEVENT
DTSTART;TZID=America/Chicago:20191116T180000
DTEND;TZID=America/Chicago:20191116T200000
DTSTAMP:20260422T141308
CREATED:20191105T032711Z
LAST-MODIFIED:20191105T032711Z
UID:481682-1573927200-1573934400@urbanmilwaukee.com
SUMMARY:TEDxUWMilwaukee Salon: The Power of One
DESCRIPTION:Join TEDxUWMilwaukee in welcoming two live speakers – Marissa Jablonski and Ken Leinbach – to the TEDx stage! Both interpreting “The Power of One” in unique ways\, these accomplished individuals will dig into the decisions you make about plastic\, and how to live a powerful and purposeful life. During the event\, you will be encouraged to discuss the topics with fellow attendees\, and you’ll get a chance to ask the TEDx speakers anything you wish! \nIf you have questions\, please email TEDxUWMilwaukee@gmail.com or visit www.TEDxUWMilwaukee.com for more information. \n
URL:https://urbanmilwaukee.com/event/tedxuwmilwaukee-salon-the-power-of-one/
LOCATION:2220 E. Kenwood Blvd.\, Milwaukee\, WI\, 53211\, United States
ATTACH;FMTTYPE=image/jpeg:https://urbanmilwaukee.com/wp-content/uploads/2019/10/TEDx-City-Image.jpg
END:VEVENT
END:VCALENDAR