BEGIN:VCALENDAR
VERSION:2.0
PRODID:-//Urban Milwaukee - ECPv4.6.9//NONSGML v1.0//EN
CALSCALE:GREGORIAN
METHOD:PUBLISH
X-WR-CALNAME:Urban Milwaukee
X-ORIGINAL-URL:https://urbanmilwaukee.com
X-WR-CALDESC:Events for Urban Milwaukee
BEGIN:VEVENT
DTSTART;TZID=America/Chicago:20251105T193000
DTEND;TZID=America/Chicago:20251105T193000
DTSTAMP:20260424T065747
CREATED:20250901T165100Z
LAST-MODIFIED:20250901T165100Z
UID:898104-1762371000-1762371000@urbanmilwaukee.com
SUMMARY:Switzerland
DESCRIPTION:Handsome young emissary\, Edward\, visits famed crime novelist Patricia Highsmith (The Talented Mr. Ripley\, Strangers on a Train) at her Swiss hideaway to persuade her to write one final Ripley novel. Dark humor and macabre twists unfold as Edward’s true\, seductive agenda is revealed in this gripping new play. \n
URL:https://urbanmilwaukee.com/event/switzerland-14/
LOCATION:255 S Water St\,\, Milwaukee\, WI\, 53204\, United States
CATEGORIES:Arts & Entertainment
ATTACH;FMTTYPE=image/jpeg:https://urbanmilwaukee.com/wp-content/uploads/2025/08/Switzerland.jpg
END:VEVENT
END:VCALENDAR