BEGIN:VCALENDAR
VERSION:2.0
PRODID:-//Urban Milwaukee - ECPv4.6.9//NONSGML v1.0//EN
CALSCALE:GREGORIAN
METHOD:PUBLISH
X-WR-CALNAME:Urban Milwaukee
X-ORIGINAL-URL:https://urbanmilwaukee.com
X-WR-CALDESC:Events for Urban Milwaukee
BEGIN:VEVENT
DTSTART;TZID=America/Chicago:20170114T100000
DTEND;TZID=America/Chicago:20170114T110000
DTSTAMP:20260424T024417
CREATED:20170103T010846Z
LAST-MODIFIED:20170103T010846Z
UID:195592-1484388000-1484391600@urbanmilwaukee.com
SUMMARY:Sustainable Coffee Tasting
DESCRIPTION:Enjoy your morning coffee with us! Join coffee experts from the Pendulum Coffee as you taste locally-roasted coffee from around the world. We will explore how local roasters bring out flavors unique to the beans’ origin. Learn about the growing regions\, sustainable farming practices\, coffee notes\, aromas and more. For all coffee enthusiasts! Space is limited. \n  \n
URL:https://urbanmilwaukee.com/event/sustainable-coffee-tasting/
CATEGORIES:Food & Drink
ATTACH;FMTTYPE=image/jpeg:https://urbanmilwaukee.com/wp-content/uploads/2011/04/UrbanEcologyCenter5.jpg
END:VEVENT
END:VCALENDAR