BEGIN:VCALENDAR
VERSION:2.0
PRODID:-//Urban Milwaukee - ECPv4.6.9//NONSGML v1.0//EN
CALSCALE:GREGORIAN
METHOD:PUBLISH
X-WR-CALNAME:Urban Milwaukee
X-ORIGINAL-URL:https://urbanmilwaukee.com
X-WR-CALDESC:Events for Urban Milwaukee
BEGIN:VEVENT
DTSTART;TZID=America/Chicago:20260116T170000
DTEND;TZID=America/Chicago:20260116T200000
DTSTAMP:20260424T170528
CREATED:20251216T165751Z
LAST-MODIFIED:20251216T165814Z
UID:928151-1768582800-1768593600@urbanmilwaukee.com
SUMMARY:Susan Hall: "Balance" Opening Reception
DESCRIPTION:Susan Hall’s oil paintings reverently explore nature. Her animal subjects —often deer\, birds\, rabbits\, and other woodland creatures — are rendered with the gravity and presence of portraiture. Sometimes a human figure joins the animal in quiet communion. A lace or crochet pattern runs throughout many of her pieces\, veiling the subject to create a dreamlike atmosphere while also suggesting a delicate connection. Hall’s work is informed by meditations on coexistence\, vulnerability\, and the powerful harmonies that sustain the natural world. \nArtist’s Reception: Friday\, January 16 from 5 to 8 p.m. (Gallery Night MKE)\nArtist Meet & Greet: Saturday\, January 17 from 1 to 3 p.m. \n
URL:https://urbanmilwaukee.com/event/susan-hall-balance-opening-reception/
LOCATION:207 E. Buffalo St.\, Suite 404\, Milwaukee\, WI\, 53202\, United States
ATTACH;FMTTYPE=image/jpeg:https://urbanmilwaukee.com/wp-content/uploads/2025/12/Hall_Dawning-oil-on-panel-48x43-6500_web-scaled.jpg
END:VEVENT
END:VCALENDAR