BEGIN:VCALENDAR
VERSION:2.0
PRODID:-//Urban Milwaukee - ECPv4.6.9//NONSGML v1.0//EN
CALSCALE:GREGORIAN
METHOD:PUBLISH
X-WR-CALNAME:Urban Milwaukee
X-ORIGINAL-URL:https://urbanmilwaukee.com
X-WR-CALDESC:Events for Urban Milwaukee
BEGIN:VEVENT
DTSTART;TZID=America/Chicago:20210615T183000
DTEND;TZID=America/Chicago:20210615T203000
DTSTAMP:20260421T133251
CREATED:20210527T224555Z
LAST-MODIFIED:20210527T224555Z
UID:600221-1623781800-1623789000@urbanmilwaukee.com
SUMMARY:Sunset Canoe on the Milwaukee River
DESCRIPTION:Registration is required for this program. \n(For adults and teens) Meet us at the Rowing Club (1990 N. Commerce St.) just in time to watch the sunset over Milwaukee. As the rays reflect off of the water\, we’ll paddle down the Milwaukee River. Personal boats are not allowed on any our paddling programs\, and all equipment will be UEC provided. \n
URL:https://urbanmilwaukee.com/event/sunset-canoe-on-the-milwaukee-river/
LOCATION:1500 E. Park Pl\, Milwaukee\, WI\, 53211\, United States
CATEGORIES:Active,Environment
ATTACH;FMTTYPE=image/jpeg:https://urbanmilwaukee.com/wp-content/uploads/2021/05/188356539_10159497498988698_7534773370003901047_n.jpg
END:VEVENT
END:VCALENDAR