BEGIN:VCALENDAR
VERSION:2.0
PRODID:-//Urban Milwaukee - ECPv4.6.9//NONSGML v1.0//EN
CALSCALE:GREGORIAN
METHOD:PUBLISH
X-WR-CALNAME:Urban Milwaukee
X-ORIGINAL-URL:https://urbanmilwaukee.com
X-WR-CALDESC:Events for Urban Milwaukee
BEGIN:VEVENT
DTSTART;TZID=America/Chicago:20190628T193000
DTEND;TZID=America/Chicago:20190628T193000
DTSTAMP:20260420T234009
CREATED:20190617T202025Z
LAST-MODIFIED:20190617T202025Z
UID:460150-1561750200-1561750200@urbanmilwaukee.com
SUMMARY:Summer Love
DESCRIPTION:Featuring the 2019 Florentine Opera Summer Residency Artists. \nExperience opera\, up-close. \nBy day our Riverwest opera center is a light-filled rehearsal space. But at night\, it transforms into an intimate\, black box theater perfect for our second-stage series. Starring our young artists-in-residence\, the @ The Center Series has something for everyone. \nPurchase tickets online\, or order by phone 1-800-32-OPERA\, Monday-Friday 9 a.m. to 5 p.m.  Single show tickets are $25 or subscriber packages are available for purchase\, 5 show package – $115 or a 3 show package – $69. \n
URL:https://urbanmilwaukee.com/event/summer-love/
LOCATION:926 E. Burleigh St.\, Milwaukee\, WI\, 53212\, United States
CATEGORIES:Arts & Entertainment
ATTACH;FMTTYPE=image/png:https://urbanmilwaukee.com/wp-content/uploads/2019/06/SUMMER-LOVE.png
END:VEVENT
END:VCALENDAR