BEGIN:VCALENDAR
VERSION:2.0
PRODID:-//Urban Milwaukee - ECPv4.6.9//NONSGML v1.0//EN
CALSCALE:GREGORIAN
METHOD:PUBLISH
X-WR-CALNAME:Urban Milwaukee
X-ORIGINAL-URL:https://urbanmilwaukee.com
X-WR-CALDESC:Events for Urban Milwaukee
BEGIN:VEVENT
DTSTART;TZID=America/Chicago:20181009T193000
DTEND;TZID=America/Chicago:20181009T214500
DTSTAMP:20260425T015315
CREATED:20180831T184733Z
LAST-MODIFIED:20180831T184733Z
UID:419040-1539113400-1539121500@urbanmilwaukee.com
SUMMARY:StorySlam: “Misunderstood”
DESCRIPTION:Ex Fabula StorySlams strengthen community bonds by creating spaces where people can connect over true\, personal stories. No props\, no notes – just the elements of “Story. Stage. You.” This StorySlam will feature stories related to the theme of “Misunderstood”. \nYou can come just to listen – or\, if you have a story related to the night’s theme and can share it in 5 minutes or less\, throw your name in the hat for a chance to take the stage. Another way to share stories is via UltraShorts\, which are brief\, true personal stories written on slips of paper and then read onstage by the emcee. This is a non-competitive StorySlam\, so we won’t be voting on an Audience favorite. \nPlease note that for Ex Fabula’s monthly StorySlams\, doors open at 6:30 p.m. and seating is General Admission. Stories may contain adult content and some venues are 21+. \nTicket Price: $10 in advance\, $12 at the door. \n
URL:https://urbanmilwaukee.com/event/storyslam-misunderstood/
LOCATION:441 E. Lincoln Ave.\, Milwaukee\, WI\, 53207\, United States
CATEGORIES:Arts & Entertainment
ATTACH;FMTTYPE=image/jpeg:https://urbanmilwaukee.com/wp-content/uploads/2018/08/exfabula_season10_5.5_8.5_FINAL.jpg
END:VEVENT
END:VCALENDAR