BEGIN:VCALENDAR
VERSION:2.0
PRODID:-//Urban Milwaukee - ECPv4.6.9//NONSGML v1.0//EN
CALSCALE:GREGORIAN
METHOD:PUBLISH
X-WR-CALNAME:Urban Milwaukee
X-ORIGINAL-URL:https://urbanmilwaukee.com
X-WR-CALDESC:Events for Urban Milwaukee
BEGIN:VEVENT
DTSTART;TZID=America/Chicago:20180914T193000
DTEND;TZID=America/Chicago:20180914T214500
DTSTAMP:20260424T130229
CREATED:20180831T154847Z
LAST-MODIFIED:20180831T184923Z
UID:419014-1536953400-1536961500@urbanmilwaukee.com
SUMMARY:StorySlam: “Generations”
DESCRIPTION:Ex Fabula StorySlams strengthen community bonds by creating spaces where people can connect over true\, personal stories. No props\, no notes – just the elements of “Story. Stage. You.” This StorySlam will feature stories related to the theme of “Generations”. \nYou can come just to listen – or\, if you have a story related to the night’s theme and can share it in 5 minutes or less\, throw your name in the hat for a chance to take the stage. Another way to share stories is via UltraShorts\, which are brief\, true personal stories written on slips of paper and then read onstage by the emcee. At the end of the night\, the audience votes and an Audience Favorite is crowned. \nPlease note that for Ex Fabula’s monthly StorySlams\, doors open at 6:30 and seating is General Admission. Stories may contain adult content and some venues are 21+. \n
URL:https://urbanmilwaukee.com/event/storyslam-generations/
LOCATION:502 W. Garfield Ave.\, Milwaukee\, WI\, 53212\, United States
CATEGORIES:Arts & Entertainment
ATTACH;FMTTYPE=image/jpeg:https://urbanmilwaukee.com/wp-content/uploads/2018/08/exfabula_season10_8.5_11_FINAL.jpg
END:VEVENT
END:VCALENDAR