BEGIN:VCALENDAR
VERSION:2.0
PRODID:-//Urban Milwaukee - ECPv4.6.9//NONSGML v1.0//EN
CALSCALE:GREGORIAN
METHOD:PUBLISH
X-WR-CALNAME:Urban Milwaukee
X-ORIGINAL-URL:https://urbanmilwaukee.com
X-WR-CALDESC:Events for Urban Milwaukee
BEGIN:VEVENT
DTSTART;TZID=America/Chicago:20251205T190000
DTEND;TZID=America/Chicago:20251205T210000
DTSTAMP:20260424T024423
CREATED:20251107T125234Z
LAST-MODIFIED:20251107T125234Z
UID:917186-1764961200-1764968400@urbanmilwaukee.com
SUMMARY:StorySlam: Date Night
DESCRIPTION:Ex Fabula StorySlams are live events where community members connect and share true\, personal stories related to the night’s theme\, told without props or notes. Come to listen – or throw your name in the hat for a chance to share a true story related to the theme of Date Night. \nAt the end of the night\, the audience votes by secret ballot to crown an Audience Favorite\, who will be invited to share a story at “All Stars” in May. \nThe audience can also be a part of the storytelling by submitting UltraShorts! These are “ultra-short” stories on the night’s theme that will be read onstage by the emcee. \nCost: $12 advance / $15 at the door if tickets remain.\nLimited Pay-it-forward tickets available! \n
URL:https://urbanmilwaukee.com/event/storyslam-date-night/
LOCATION:801 E. Clarke St.\, Milwaukee\, 53212\, United States
CATEGORIES:Arts & Entertainment
ATTACH;FMTTYPE=image/jpeg:https://urbanmilwaukee.com/wp-content/uploads/2025/11/Date_Night_Slam_dec5.jpg
END:VEVENT
END:VCALENDAR