BEGIN:VCALENDAR
VERSION:2.0
PRODID:-//Urban Milwaukee - ECPv4.6.9//NONSGML v1.0//EN
CALSCALE:GREGORIAN
METHOD:PUBLISH
X-WR-CALNAME:Urban Milwaukee
X-ORIGINAL-URL:https://urbanmilwaukee.com
X-WR-CALDESC:Events for Urban Milwaukee
BEGIN:VEVENT
DTSTART;TZID=America/Chicago:20210403T103000
DTEND;TZID=America/Chicago:20210403T110000
DTSTAMP:20260421T172523
CREATED:20210228T163700Z
LAST-MODIFIED:20210228T163700Z
UID:583549-1617445800-1617447600@urbanmilwaukee.com
SUMMARY:Story Time in the Galleries: At Home
DESCRIPTION:We’re bringing the storytelling to you\, at home\, and will start each session with a look at a Museum artwork\, and end with a related activity. Story Time in the Galleries is the first Saturday of the month at 10:30 a.m. We look forward to sharing many wonderful stories with you! \nSponsored by: Four-Four Foundation and an anonymous donor \n
URL:https://urbanmilwaukee.com/event/story-time-in-the-galleries-at-home-2/
LOCATION:700 N Art Museum Dr\, Milwaukee\, WI\, 53202\, United States
CATEGORIES:Arts & Entertainment,Kids,Virtual
ATTACH;FMTTYPE=image/jpeg:https://urbanmilwaukee.com/wp-content/uploads/2021/02/Story-Time.jpg
END:VEVENT
END:VCALENDAR