BEGIN:VCALENDAR
VERSION:2.0
PRODID:-//Urban Milwaukee - ECPv4.6.9//NONSGML v1.0//EN
CALSCALE:GREGORIAN
METHOD:PUBLISH
X-WR-CALNAME:Urban Milwaukee
X-ORIGINAL-URL:https://urbanmilwaukee.com
X-WR-CALDESC:Events for Urban Milwaukee
BEGIN:VEVENT
DTSTART;TZID=America/Chicago:20160911T160000
DTEND;TZID=America/Chicago:20160911T183000
DTSTAMP:20260424T073601
CREATED:20161113T134637Z
LAST-MODIFIED:20161113T134637Z
UID:182757-1473609600-1473618600@urbanmilwaukee.com
SUMMARY:Steve Gillette and Cindy Mangsen Concert
DESCRIPTION:“Steve and Cindy have hit on a combination that consistently produces high quality recordings and entertaining stage shows. Their voices and their styles meld seamlessly with a gentleness and a maturity that is unmatched in the world of folk duos.” \nSteve and Cindy have been performing together for 25 years\, bringing together their love of traditional music and their wealth of original songs. Accompanying themselves with guitars and concertinas\, their live performances are known for rich harmony\, compelling songs and a good dose of humor. Their six duet albums have appeared on many folk Top Ten lists\, from the WFMT Midnight Special (Chicago) to The Boston Globe. \n
URL:https://urbanmilwaukee.com/event/steve-gillette-and-cindy-mangsen-concert/
LOCATION:2590 S. Superior St.\, Milwaukee\, WI\, 53207\, United States
CATEGORIES:Arts & Entertainment
ATTACH;FMTTYPE=image/jpeg:https://urbanmilwaukee.com/wp-content/uploads/2016/08/PHOTO-2.Sept11.jpg
END:VEVENT
END:VCALENDAR