BEGIN:VCALENDAR
VERSION:2.0
PRODID:-//Urban Milwaukee - ECPv4.6.9//NONSGML v1.0//EN
CALSCALE:GREGORIAN
METHOD:PUBLISH
X-WR-CALNAME:Urban Milwaukee
X-ORIGINAL-URL:https://urbanmilwaukee.com
X-WR-CALDESC:Events for Urban Milwaukee
BEGIN:VEVENT
DTSTART;TZID=America/Chicago:20161118T193000
DTEND;TZID=America/Chicago:20161118T213000
DTSTAMP:20260424T065652
CREATED:20161019T182140Z
LAST-MODIFIED:20161019T182140Z
UID:187051-1479497400-1479504600@urbanmilwaukee.com
SUMMARY:Step Afrika!
DESCRIPTION:We’re thrilled to present one of the top African American dance companies on November 18. Step Afrika! performances are more than dance shows; they integrate songs\, storytelling\, humor\, and audience participation. The blend of technique\, agility\, and pure energy makes each performance unique and appeals to all ages and cultures. \n
URL:https://urbanmilwaukee.com/event/step-afrika/
CATEGORIES:Arts & Entertainment
ATTACH;FMTTYPE=image/jpeg:https://urbanmilwaukee.com/wp-content/uploads/2016/10/bannersStepAfrika-03sqwordsMAIN.jpg
END:VEVENT
END:VCALENDAR