BEGIN:VCALENDAR
VERSION:2.0
PRODID:-//Urban Milwaukee - ECPv4.6.9//NONSGML v1.0//EN
CALSCALE:GREGORIAN
METHOD:PUBLISH
X-WR-CALNAME:Urban Milwaukee
X-ORIGINAL-URL:https://urbanmilwaukee.com
X-WR-CALDESC:Events for Urban Milwaukee
BEGIN:VEVENT
DTSTART;TZID=America/Chicago:20210409T160000
DTEND;TZID=America/Chicago:20210409T200000
DTSTAMP:20260423T102259
CREATED:20210221T152458Z
LAST-MODIFIED:20210221T152458Z
UID:581909-1617984000-1617998400@urbanmilwaukee.com
SUMMARY:Steny's Fish Fry Drive-Thru!
DESCRIPTION:Every Friday from 4 p.m. – 8 p.m.\, Steny’s Tavern & Grille will have a drive-thru open for Fish Fry! The drive-thru items available for purchase include… \n– Cod Fry Dinner with your choice of potato pancakes or fries\n– Cup/Bowl of Clam Chowder\n– Bloody Mary and Beer Growlers\n– Soda \nPlease drive north on South 2nd St. There will be cones and signs directing where to go!\nWe will only be accepting cash! We are NOT accepting card transactions. \n
URL:https://urbanmilwaukee.com/event/stenys-fish-fry-drive-thru-6/
CATEGORIES:Food & Drink
ATTACH;FMTTYPE=image/jpeg:https://urbanmilwaukee.com/wp-content/uploads/2021/02/Brit20Fish20Fry.jpg
END:VEVENT
END:VCALENDAR