BEGIN:VCALENDAR
VERSION:2.0
PRODID:-//Urban Milwaukee - ECPv4.6.9//NONSGML v1.0//EN
CALSCALE:GREGORIAN
METHOD:PUBLISH
X-WR-CALNAME:Urban Milwaukee
X-ORIGINAL-URL:https://urbanmilwaukee.com
X-WR-CALDESC:Events for Urban Milwaukee
BEGIN:VEVENT
DTSTART;TZID=America/Chicago:20160911T100000
DTEND;TZID=America/Chicago:20160911T170000
DTSTAMP:20260424T103952
CREATED:20160825T054054Z
LAST-MODIFIED:20160825T054054Z
UID:174510-1473588000-1473613200@urbanmilwaukee.com
SUMMARY:Starving Artists' Show
DESCRIPTION:The Starving Artists’ Show is an annual outdoor art show held on Mount Mary University’s front lawn. It features artwork in a variety of media by local and national artists. All artwork is priced at $100 or less. The entry fee is $10. This is used to support Mount Mary student scholarships. \n
URL:https://urbanmilwaukee.com/event/starving-artists-show/
CATEGORIES:Arts & Entertainment
ATTACH;FMTTYPE=image/jpeg:https://urbanmilwaukee.com/wp-content/uploads/2016/06/Promo-Image-from-SAS-2014.jpg
END:VEVENT
END:VCALENDAR