BEGIN:VCALENDAR
VERSION:2.0
PRODID:-//Urban Milwaukee - ECPv4.6.9//NONSGML v1.0//EN
CALSCALE:GREGORIAN
METHOD:PUBLISH
X-WR-CALNAME:Urban Milwaukee
X-ORIGINAL-URL:https://urbanmilwaukee.com
X-WR-CALDESC:Events for Urban Milwaukee
BEGIN:VEVENT
DTSTART;TZID=America/Chicago:20171007T180000
DTEND;TZID=America/Chicago:20171007T190000
DTSTAMP:20260423T232530
CREATED:20170716T174551Z
LAST-MODIFIED:20170716T174551Z
UID:367134-1507399200-1507402800@urbanmilwaukee.com
SUMMARY:Spookley the Square Pumpkin
DESCRIPTION:Join First Stage for an interactive storytelling workshop\, providing adults and children the opportunity to participate in dramatic activities inspired by First Stage’s musical\, Spookley The Square Pumpkin. Families will explore this heartwarming story of Spookley’s mission to be the Pick of the Patch on Halloween\, despite his shape being different from the other pumpkins. But there are times that it is better to be square! \nThis session is approximately 45 minutes and suggested for families and children ages 3-7. Stay for treats following the workshop! \n
URL:https://urbanmilwaukee.com/event/spookley-the-square-pumpkin/
CATEGORIES:Arts & Entertainment
ATTACH;FMTTYPE=image/jpeg:https://urbanmilwaukee.com/wp-content/uploads/2017/06/100717Spookley.jpg
END:VEVENT
END:VCALENDAR