BEGIN:VCALENDAR
VERSION:2.0
PRODID:-//Urban Milwaukee - ECPv4.6.9//NONSGML v1.0//EN
CALSCALE:GREGORIAN
METHOD:PUBLISH
X-WR-CALNAME:Urban Milwaukee
X-ORIGINAL-URL:https://urbanmilwaukee.com
X-WR-CALDESC:Events for Urban Milwaukee
BEGIN:VEVENT
DTSTART;TZID=America/Chicago:20171027T200000
DTEND;TZID=America/Chicago:20171027T220000
DTSTAMP:20260424T050707
CREATED:20170718T051026Z
LAST-MODIFIED:20170718T051026Z
UID:367254-1509134400-1509141600@urbanmilwaukee.com
SUMMARY:Sphinx Virtuosi
DESCRIPTION:In celebration of the 20th anniversary of the Sphinx Organization\, the exciting program\, Concerti per Venti\, offers a collection of concerti through the ages\, performed by the 18-piece\, self-conducted Sphinx Virtuosi\, America’s only all Black-Latino string orchestra. From Baroque to modern day\, the program showcases a tremendous variety in languages and styles. Repertoire will include the newly commissioned Guardian of the Horizon: Concerto Grosso for Violin\, Cello\, and Strings by award-winning composer Jimmy Lopez\, Delights and Dances for string quartet and string orchestra by Michael Abels\, Beethoven’s timeless Grosse Fuge\, and Concerto Grosso by Vaughan Williams. \n
URL:https://urbanmilwaukee.com/event/sphinx-virtuosi/
CATEGORIES:Arts & Entertainment
ATTACH;FMTTYPE=image/jpeg:https://urbanmilwaukee.com/wp-content/uploads/2017/06/102717SphinxVirtuosi.jpg
END:VEVENT
END:VCALENDAR