BEGIN:VCALENDAR
VERSION:2.0
PRODID:-//Urban Milwaukee - ECPv4.6.9//NONSGML v1.0//EN
CALSCALE:GREGORIAN
METHOD:PUBLISH
X-WR-CALNAME:Urban Milwaukee
X-ORIGINAL-URL:https://urbanmilwaukee.com
X-WR-CALDESC:Events for Urban Milwaukee
BEGIN:VEVENT
DTSTART;TZID=America/Chicago:20250314T190000
DTEND;TZID=America/Chicago:20250314T203000
DTSTAMP:20260422T161847
CREATED:20250212T034031Z
LAST-MODIFIED:20250212T034031Z
UID:844801-1741978800-1741984200@urbanmilwaukee.com
SUMMARY:SOAR! presented by Ice Dance International
DESCRIPTION:A breathtaking journey of artistry and athleticism that showcases the magic of skating through mesmerizing ensemble performances by world-class skaters and renowned choreographers. \nIce Dance International presents SOAR!\, their 10th-anniversary national tour. The theatrical presentation features a cast of world-class figure skaters including two-time U.S. Champion Alissa Czisny and renowned choreographer and Champion Rohene Ward. SOAR! takes audiences on a breathtaking journey of artistry and athleticism that showcases the magic of skating through mesmerizing ensemble performances. For tickets and meet-and-greet opportunities\, visit www.icedanceinternational.org. \n
URL:https://urbanmilwaukee.com/event/soar-presented-by-ice-dance-international/
LOCATION:4001 South 20th Street\, Milwaukee\, WI\, 53221\, United States
CATEGORIES:Arts & Entertainment
ATTACH;FMTTYPE=image/jpeg:https://urbanmilwaukee.com/wp-content/uploads/2025/02/SwarmPSU2024-005-Black-scaled.jpg
ORGANIZER;CN="Ice%20Dance%20International":MAILTO:douglas@icedanceinternational.org
END:VEVENT
END:VCALENDAR