BEGIN:VCALENDAR
VERSION:2.0
PRODID:-//Urban Milwaukee - ECPv4.6.9//NONSGML v1.0//EN
CALSCALE:GREGORIAN
METHOD:PUBLISH
X-WR-CALNAME:Urban Milwaukee
X-ORIGINAL-URL:https://urbanmilwaukee.com
X-WR-CALDESC:Events for Urban Milwaukee
BEGIN:VEVENT
DTSTART;TZID=America/Chicago:20230204T190000
DTEND;TZID=America/Chicago:20230204T220000
DTSTAMP:20260421T081319
CREATED:20230127T061406Z
LAST-MODIFIED:20230127T061406Z
UID:696561-1675537200-1675548000@urbanmilwaukee.com
SUMMARY:Smart Mouth brings it to Nashville North
DESCRIPTION:Not your parents’ cover band — Smart Mouth plays party anthems from 2000-2023. High-energy\, amazing vocals & musicianship – sing – dance – party – fun. You have never seen a cover band like this. Smart Mouth will be bringing their full fair/festival/event show indoors to Nashville North. \nSmart Mouth covers songs from artists such as Black Eyed Peas\, Fall Out Boy\, Britney Spears and more! \nSmart Mouth performs fairs\, festivals\, events\, venues & concert series across the state of Wisconsin and Northern Illinois with a primary focus on Southern / SE Wisconsin & Greater Milwaukee. 3x “Best of Milwaukee” nominated (2020\, 2021\, 2022) & 2020 “Southeast Wisconsin WAMI People’s Choice” nominated (Best Cover Band). \nVideo: https://www.facebook.com/smartmouthmke/videos/261768272680703 \n
URL:https://urbanmilwaukee.com/event/smart-mouth-brings-it-to-nashville-north/
CATEGORIES:Arts & Entertainment
ATTACH;FMTTYPE=image/jpeg:https://urbanmilwaukee.com/wp-content/uploads/2022/12/Nashville-North-Event-Cover-02042023.jpg
END:VEVENT
END:VCALENDAR