BEGIN:VCALENDAR
VERSION:2.0
PRODID:-//Urban Milwaukee - ECPv4.6.9//NONSGML v1.0//EN
CALSCALE:GREGORIAN
METHOD:PUBLISH
X-WR-CALNAME:Urban Milwaukee
X-ORIGINAL-URL:https://urbanmilwaukee.com
X-WR-CALDESC:Events for Urban Milwaukee
BEGIN:VEVENT
DTSTART;TZID=America/Chicago:20171016T160000
DTEND;TZID=America/Chicago:20171016T190000
DTSTAMP:20260423T191528
CREATED:20170901T082908Z
LAST-MODIFIED:20170901T083339Z
UID:374024-1508169600-1508180400@urbanmilwaukee.com
SUMMARY:SHARP Literacy's A Novel Event with Randall Cobb
DESCRIPTION:SHARP Literacy “A Novel Event 2017” with keynote speaker Randall Cobb will take place on Monday\, October 16th from 4:00 -7:00 p.m. at The Pfister Hotel. The fundraising event will support SHARP’s foundational literacy program that serves over 8\,000 elementary school students in 38 of Milwaukee and Waukesha Counties’ most at-risk schools. Individual tickets are $150 and may be purchased online at www.sharpliteracy.org or by calling 414.410.3203. \n
URL:https://urbanmilwaukee.com/event/sharp-literacys-a-novel-event-with-randall-cobb/
LOCATION:424 E. Wisconsin Ave.\, Milwaukee\, WI\, 53202\, United States
CATEGORIES:Arts & Entertainment
ATTACH;FMTTYPE=image/jpeg:https://urbanmilwaukee.com/wp-content/uploads/2017/08/Randall-Cobb.jpg
END:VEVENT
END:VCALENDAR