BEGIN:VCALENDAR
VERSION:2.0
PRODID:-//Urban Milwaukee - ECPv4.6.9//NONSGML v1.0//EN
CALSCALE:GREGORIAN
METHOD:PUBLISH
X-WR-CALNAME:Urban Milwaukee
X-ORIGINAL-URL:https://urbanmilwaukee.com
X-WR-CALDESC:Events for Urban Milwaukee
BEGIN:VEVENT
DTSTART;TZID=America/Chicago:20161017T110000
DTEND;TZID=America/Chicago:20161017T130000
DTSTAMP:20260424T055927
CREATED:20160928T163758Z
LAST-MODIFIED:20160928T163758Z
UID:183194-1476702000-1476709200@urbanmilwaukee.com
SUMMARY:SHARP Literacy's A Novel Event with John Quinones
DESCRIPTION:SHARP Literacy “A Novel Event 2016” with keynote speaker John Quiñones will take place on Monday\, October 17th from 11:00 am to 1:30 pm at The Pfister Hotel. The fundraising event will support SHARP’s foundational literacy program that serves over 8\,000 elementary school students in 36 of Milwaukee’s most at-risk schools. Individual tickets are $125 and may be purchased online at www.sharpliteracy.org or by calling 414-977-1768. \n
URL:https://urbanmilwaukee.com/event/sharp-literacys-a-novel-event-with-john-quinones/
CATEGORIES:Arts & Entertainment
ATTACH;FMTTYPE=image/jpeg:https://urbanmilwaukee.com/wp-content/uploads/2016/09/John-Quinones.jpg
END:VEVENT
END:VCALENDAR