BEGIN:VCALENDAR
VERSION:2.0
PRODID:-//Urban Milwaukee - ECPv4.6.9//NONSGML v1.0//EN
CALSCALE:GREGORIAN
METHOD:PUBLISH
X-WR-CALNAME:Urban Milwaukee
X-ORIGINAL-URL:https://urbanmilwaukee.com
X-WR-CALDESC:Events for Urban Milwaukee
BEGIN:VEVENT
DTSTART;TZID=America/Chicago:20180324T160000
DTEND;TZID=America/Chicago:20180324T170000
DTSTAMP:20260424T115754
CREATED:20180317T032115Z
LAST-MODIFIED:20180317T032115Z
UID:396080-1521907200-1521910800@urbanmilwaukee.com
SUMMARY:Shannon Heaton in Concert
DESCRIPTION:Boston-based Irish flute player/singer Shannon Heaton presents traditional music masterfully. Her dance tunes and ballad singing are steeped in the tradition. She is a warm\, entertaining performer and received a 2016 Artist Fellowship from the Massachusetts Cultural Council. She was also named Live Ireland’s Female Artist of the Year in both 2010 and 2011 and IAN’s Female Musician of the Year in 2009. \nIn performance\, Shannon expertly blends new compositions with rare\, traditional gems. She is a warm\, entertaining performer and excels at making traditional music relevant and accessible to a wide variety of audiences. Workshop: “Irish Singing without the Accent” is at 1:30 p.m. Shannon empowers participants to sing in their own authentic voices\, and offers techniques and songs that tap into the essence of traditional style. \n
URL:https://urbanmilwaukee.com/event/shannon-heaton-in-concert/
LOCATION:2590 S. Superior St.\, Milwaukee\, WI\, 53207\, United States
CATEGORIES:Arts & Entertainment
ATTACH;FMTTYPE=image/jpeg:https://urbanmilwaukee.com/wp-content/uploads/2018/03/shannonsolo-240x300.jpg
END:VEVENT
END:VCALENDAR