BEGIN:VCALENDAR
VERSION:2.0
PRODID:-//Urban Milwaukee - ECPv4.6.9//NONSGML v1.0//EN
CALSCALE:GREGORIAN
METHOD:PUBLISH
X-WR-CALNAME:Urban Milwaukee
X-ORIGINAL-URL:https://urbanmilwaukee.com
X-WR-CALDESC:Events for Urban Milwaukee
BEGIN:VEVENT
DTSTART;TZID=America/Chicago:20190719T173000
DTEND;TZID=America/Chicago:20190719T203000
DTSTAMP:20260422T205301
CREATED:20190519T121023Z
LAST-MODIFIED:20190519T121023Z
UID:455699-1563557400-1563568200@urbanmilwaukee.com
SUMMARY:Shakespeare in the State Parks – Romeo and Juliet
DESCRIPTION:It’s the greatest love story ever told… with six actors\, some sneakers and a trunk full of props. Shakespeare‘s classic tale gets a fresh\, fun\, family-friendly adaptation in the great outdoors! Romeo and Juliet come from rival families\, but quickly find that their love runs deeper than what keeps them apart. With the help of loyal friends\, these star-crossed lovers seek their own happy ending\, but (spoiler alert!) fate has its own plans for them. \nEach Summit Players performance is an accessible 75-minute show preceded by a 45-minute educational workshop\, entitled “Playing with Shakespeare: Get Outside with Will\,” offered to kids and “fun adults.” The workshop starts at 5:30 p.m.\, the show starts at 7:00 p.m.\, and both are completely FREE! \nFor more information\, visit www.summitplayerstheatre.com \n
URL:https://urbanmilwaukee.com/event/shakespeare-in-the-state-parks-romeo-and-juliet-2/
LOCATION:610 S. 35th St.\, Milwaukee\, WI\, 53215\, United States
CATEGORIES:Arts & Entertainment
ATTACH;FMTTYPE=image/png:https://urbanmilwaukee.com/wp-content/uploads/2019/05/Facebook_RJProfilePic-2.png
END:VEVENT
END:VCALENDAR