BEGIN:VCALENDAR
VERSION:2.0
PRODID:-//Urban Milwaukee - ECPv4.6.9//NONSGML v1.0//EN
CALSCALE:GREGORIAN
METHOD:PUBLISH
X-WR-CALNAME:Urban Milwaukee
X-ORIGINAL-URL:https://urbanmilwaukee.com
X-WR-CALDESC:Events for Urban Milwaukee
BEGIN:VEVENT
DTSTART;TZID=America/Chicago:20190727T133000
DTEND;TZID=America/Chicago:20190727T150000
DTSTAMP:20260422T224617
CREATED:20190715T122803Z
LAST-MODIFIED:20190715T122803Z
UID:464110-1564234200-1564239600@urbanmilwaukee.com
SUMMARY:Sculptures & Stories Storytelling Tour
DESCRIPTION:Ex Fabula and Sculpture Milwaukee present ‘Sculptures & Stories’\, an intergenerational storytelling walking tour inspired by the sculptures installed along Wisconsin Avenue. \nThis year\, each tour will feature curated stories from two storytellers: an adult and a young person that they know well. Between the stories\, while walking between sculptures\, tourgoers will be given storytelling prompts so that they can share their own stories with each other – in pairs or threes. \n
URL:https://urbanmilwaukee.com/event/sculptures-stories-storytelling-tour-4/
LOCATION:509 W. Wisconsin Ave.\, Milwaukee\, WI\, 53203\, United States
CATEGORIES:Arts & Entertainment
ATTACH;FMTTYPE=image/jpeg:https://urbanmilwaukee.com/wp-content/uploads/2019/07/Ex-Fabula-Logo-3.jpg
END:VEVENT
END:VCALENDAR