BEGIN:VCALENDAR
VERSION:2.0
PRODID:-//Urban Milwaukee - ECPv4.6.9//NONSGML v1.0//EN
CALSCALE:GREGORIAN
METHOD:PUBLISH
X-WR-CALNAME:Urban Milwaukee
X-ORIGINAL-URL:https://urbanmilwaukee.com
X-WR-CALDESC:Events for Urban Milwaukee
BEGIN:VEVENT
DTSTART;TZID=America/Chicago:20190717T173000
DTEND;TZID=America/Chicago:20190717T190000
DTSTAMP:20260422T084344
CREATED:20190708T174137Z
LAST-MODIFIED:20190708T174137Z
UID:463367-1563384600-1563390000@urbanmilwaukee.com
SUMMARY:Sculpture Talks
DESCRIPTION:Join us for a discussion about public art by Sculpture Milwaukee’s Director of Exhibitions and Programs\, Marilu Knode. \nSculpture Talks is a series of dynamic discussions by some of the region’s art and cultural leaders exploring contemporary trends\, historical notes in relationship to the artworks in Sculpture Milwaukee 2019\, and a deeper understanding and appreciation of contemporary public art. RSVP here. \nFollowing the talk there will be a gallery tour of The Warehouse’s current exhibition Carve\, Cast\, & Coil: International Sculpture from the Permanent Collection\, by curator Laura Sims Peck. \nSculpture Talks is sponsored by Guardian Fine Art Services and organized by Debra Brehmer of Portrait Society Gallery. \n**FREE parking in the lot to the east of the building and additional parking available on 17th Street and St. Paul Avenue. \n
URL:https://urbanmilwaukee.com/event/sculpture-talks/
LOCATION:1635 W. St. Paul Ave.\, Milwaukee\, WI\, 53233\, United States
CATEGORIES:Arts & Entertainment,Business
ATTACH;FMTTYPE=image/png:https://urbanmilwaukee.com/wp-content/uploads/2019/07/theWarehouse_Guardian_Scultpure-Milwaukee-1.png
END:VEVENT
END:VCALENDAR