BEGIN:VCALENDAR
VERSION:2.0
PRODID:-//Urban Milwaukee - ECPv4.6.9//NONSGML v1.0//EN
CALSCALE:GREGORIAN
METHOD:PUBLISH
X-WR-CALNAME:Urban Milwaukee
X-ORIGINAL-URL:https://urbanmilwaukee.com
X-WR-CALDESC:Events for Urban Milwaukee
BEGIN:VEVENT
DTSTART;TZID=America/Chicago:20171124T140000
DTEND;TZID=America/Chicago:20171124T163000
DTSTAMP:20260423T174537
CREATED:20171012T194304Z
LAST-MODIFIED:20171012T194304Z
UID:375224-1511532000-1511541000@urbanmilwaukee.com
SUMMARY:School of Rock
DESCRIPTION:SCHOOL OF ROCK is a New York Times Critics’ Pick and “AN INSPIRING JOLT OF ENERGY\, JOY AND MAD SKILLZ!” (Entertainment Weekly). Based on the hit film\, this hilarious new musical follows Dewey Finn\, a wannabe rock star posing as a substitute teacher who turns a class of straight-A students into a guitar-shredding\, bass-slapping\, mind-blowing rock band. This high-octane smash features 14 new songs from ANDREW LLOYD WEBBER\, all the original songs from the movie and musical theater’s first-ever kids rock band playing their instruments live on stage. Vanity Fair raves\, “FISTS OF ALL AGES SHALL BE PUMPING!” \n
URL:https://urbanmilwaukee.com/event/school-of-rock-2/
LOCATION:929 N. Water St.\, Milwaukee\, WI\, 53202\, United States
CATEGORIES:Arts & Entertainment
ATTACH;FMTTYPE=image/jpeg:https://urbanmilwaukee.com/wp-content/uploads/2017/09/New-SOR_Stacked_NOANGLE_RGB-5.jpg
END:VEVENT
END:VCALENDAR