BEGIN:VCALENDAR
VERSION:2.0
PRODID:-//Urban Milwaukee - ECPv4.6.9//NONSGML v1.0//EN
CALSCALE:GREGORIAN
METHOD:PUBLISH
X-WR-CALNAME:Urban Milwaukee
X-ORIGINAL-URL:https://urbanmilwaukee.com
X-WR-CALDESC:Events for Urban Milwaukee
BEGIN:VEVENT
DTSTART;TZID=America/Chicago:20190505T100000
DTEND;TZID=America/Chicago:20190505T160000
DTSTAMP:20260420T185940
CREATED:20190408T035426Z
LAST-MODIFIED:20190408T035426Z
UID:447014-1557050400-1557072000@urbanmilwaukee.com
SUMMARY:Schlitz Audubon Art Fair
DESCRIPTION:Enjoying art provides a special occasion to reflect on our connection with the natural world. This art fair features local artists who find inspiration and creativity in nature. A variety of items will be available for purchase\, including paintings\, photography\, pottery and more. \nFree with membership or admission. \n
URL:https://urbanmilwaukee.com/event/schlitz-audubon-art-fair/
LOCATION:1111 E. Brown Deer Rd.\, Milwaukee\, WI\, 53217\, United States
CATEGORIES:Arts & Entertainment
ATTACH;FMTTYPE=image/jpeg:https://urbanmilwaukee.com/wp-content/uploads/2019/03/art-fair-web.jpg
END:VEVENT
END:VCALENDAR