BEGIN:VCALENDAR
VERSION:2.0
PRODID:-//Urban Milwaukee - ECPv4.6.9//NONSGML v1.0//EN
CALSCALE:GREGORIAN
METHOD:PUBLISH
X-WR-CALNAME:Urban Milwaukee
X-ORIGINAL-URL:https://urbanmilwaukee.com
X-WR-CALDESC:Events for Urban Milwaukee
BEGIN:VEVENT
DTSTART;TZID=America/Chicago:20160910T133000
DTEND;TZID=America/Chicago:20160910T140000
DTSTAMP:20260424T055804
CREATED:20160825T050520Z
LAST-MODIFIED:20160825T050520Z
UID:180252-1473514200-1473516000@urbanmilwaukee.com
SUMMARY:Saturday Samplings: Behind-the-Scenes at RAM
DESCRIPTION:Get a behind-the-scenes look at challenges and triumphs of operating an art museum through a wide spectrum of lenses and a diverse assortment of occupations and personalities. Meet RAM staff\, docents\, and volunteers as they lead you through a fun and relaxed conversation on multiple museum topics. \nEach week will be a new experience and opportunity to engage with a different face of RAM. Topics will include how the collection came to life\, how exhibits are organized\, what programs RAM offers (and why!)\, job duties\, staff favorite works of art\, interesting art facts\, and more! \nThis Saturday\, join RAM Staff Michelle Ortwein \nIncluded with Museum Admission; no need to register. \n
URL:https://urbanmilwaukee.com/event/saturday-samplings-behind-the-scenes-at-ram/
LOCATION:441 Main Street\, Racine\, WI\, 53402\, United States
CATEGORIES:Arts & Entertainment
END:VEVENT
END:VCALENDAR