BEGIN:VCALENDAR
VERSION:2.0
PRODID:-//Urban Milwaukee - ECPv4.6.9//NONSGML v1.0//EN
CALSCALE:GREGORIAN
METHOD:PUBLISH
X-WR-CALNAME:Urban Milwaukee
X-ORIGINAL-URL:https://urbanmilwaukee.com
X-WR-CALDESC:Events for Urban Milwaukee
BEGIN:VEVENT
DTSTART;TZID=America/Chicago:20171202T080000
DTEND;TZID=America/Chicago:20171202T100000
DTSTAMP:20260423T001356
CREATED:20171017T195536Z
LAST-MODIFIED:20171017T195536Z
UID:371636-1512201600-1512208800@urbanmilwaukee.com
SUMMARY:Santa Hustle Milwaukee 5K
DESCRIPTION:Grab a group and make plans to participate in the 7th annual Santa Hustle 5K and half marathon Milwaukee on Saturday\, December 2nd\, 2017 at Veteran’s Park. \nEarly bird specials are available now through August 31st. The 5k run/walk will begin and end at Veteran’s Park at 9 am. \nParticipants will receive a Santa hat and beard with this limited time discounted registration\, along with a lightweight performance hoodie. Cookie and candy stations\, along with holiday music and cheer\, will fill the course along Milwaukee’s historic downtown. \n“We’re celebrating seven successful years hosting this event; we are thrilled to be building on that\,” said Aaron Del Mar\, Adrenaline Sports Management founder. “There’s no better way to ring the holiday season!” \nAwards and customized Santa Hustle medals will be given to the top three male and female finishers in each age group\, along with the overall top three finishers. New for 2017: each participant who completes the course will receive candy cane socks! \n
URL:https://urbanmilwaukee.com/event/santa-hustle-milwaukee-5k/
LOCATION:1010 N Lincoln Memorial Drive\, Milwaukee\, WI\, 53202\, United States
CATEGORIES:Arts & Entertainment
ATTACH;FMTTYPE=image/jpeg:https://urbanmilwaukee.com/wp-content/uploads/2017/08/santa-hustle-.jpg
END:VEVENT
END:VCALENDAR