BEGIN:VCALENDAR
VERSION:2.0
PRODID:-//Urban Milwaukee - ECPv4.6.9//NONSGML v1.0//EN
CALSCALE:GREGORIAN
METHOD:PUBLISH
X-WR-CALNAME:Urban Milwaukee
X-ORIGINAL-URL:https://urbanmilwaukee.com
X-WR-CALDESC:Events for Urban Milwaukee
BEGIN:VEVENT
DTSTART;TZID=America/Chicago:20231115T200000
DTEND;TZID=America/Chicago:20231115T230000
DTSTAMP:20260419T174417
CREATED:20231115T163347Z
LAST-MODIFIED:20231115T163347Z
UID:751338-1700078400-1700089200@urbanmilwaukee.com
SUMMARY:Sam Weber
DESCRIPTION:Join Anodyne Coffee Roasting Co. for an evening of live music featuring Sam Weber! \nSam Weber’s storied exodus from his homeland of Canada to find new footing and opportunity in America resonates like a classic story of pain\, loss\, and rebirth. That narrative thread is woven throughout his new record\, Get Free\, offering a warm\, intimate\, and multidimensional portrait of the 28-year-old singer-songwriter. With this new collection of material\, Weber reaches fresh emotional depths\, commanding more expressive personal moments than ever before — at times within the margins of a single verse. \nTickets are $15 in advance or $18 at the door. Advance tickets are available until 3 p.m. day of show. Doors open at 7 p.m. and the show begins at 8 p.m. \n  \n
URL:https://urbanmilwaukee.com/event/sam-weber/
LOCATION:224 W. Bruce St.\, Milwaukee\, WI\, 53204\, United States
CATEGORIES:Arts & Entertainment
ATTACH;FMTTYPE=image/jpeg:https://urbanmilwaukee.com/wp-content/uploads/2023/11/samweber.jpeg
ORGANIZER;CN="Anodyne%20Coffee%20Roasting%20Co.":MAILTO:erica@anodynecoffee.com
END:VEVENT
END:VCALENDAR