BEGIN:VCALENDAR
VERSION:2.0
PRODID:-//Urban Milwaukee - ECPv4.6.9//NONSGML v1.0//EN
CALSCALE:GREGORIAN
METHOD:PUBLISH
X-WR-CALNAME:Urban Milwaukee
X-ORIGINAL-URL:https://urbanmilwaukee.com
X-WR-CALDESC:Events for Urban Milwaukee
BEGIN:VEVENT
DTSTART;TZID=America/Chicago:20190712T160000
DTEND;TZID=America/Chicago:20190712T164500
DTSTAMP:20260421T192822
CREATED:20190703T030347Z
LAST-MODIFIED:20190703T030347Z
UID:461972-1562947200-1562949900@urbanmilwaukee.com
SUMMARY:Saint Kate Champagne & Art Tour
DESCRIPTION:Join Saint Kate Curator\, Maureen Ragalie\, for a 45-minute guided tour of the Saint Kate art collection\, accompanied by a glass of champagne. \n15 guests maximum per tour – first come\, first serve. \nMeet in the Saint Kate lobby area near Reception. \n
URL:https://urbanmilwaukee.com/event/saint-kate-champagne-art-tour-2/
LOCATION:139 E. Kilbourn Ave.\, Milwaukee\, WI\, 53202\, United States
CATEGORIES:Arts & Entertainment
ATTACH;FMTTYPE=image/jpeg:https://urbanmilwaukee.com/wp-content/uploads/2019/06/Champagne-1.jpg
END:VEVENT
END:VCALENDAR