BEGIN:VCALENDAR
VERSION:2.0
PRODID:-//Urban Milwaukee - ECPv4.6.9//NONSGML v1.0//EN
CALSCALE:GREGORIAN
METHOD:PUBLISH
X-WR-CALNAME:Urban Milwaukee
X-ORIGINAL-URL:https://urbanmilwaukee.com
X-WR-CALDESC:Events for Urban Milwaukee
BEGIN:VEVENT
DTSTART;TZID=America/Chicago:20160910T130000
DTEND;TZID=America/Chicago:20160910T190000
DTSTAMP:20260424T054503
CREATED:20161027T191218Z
LAST-MODIFIED:20161027T191218Z
UID:182670-1473512400-1473534000@urbanmilwaukee.com
SUMMARY:Royal Enfield of Milwaukee Grand Opening Event
DESCRIPTION:Join Royal Enfield as they join the Milwaukee community\, with a celebration of the launch of the first Royal Enfield flagship store in North America\, with music\, motorcycles\, food and friends. An RSVP is encouraged. Please use the registration link above to confirm your attendance. The event is free \n
URL:https://urbanmilwaukee.com/event/royal-enfield-of-milwaukee-grand-opening-event/
CATEGORIES:Arts & Entertainment,Food & Drink
ATTACH;FMTTYPE=image/png:https://urbanmilwaukee.com/wp-content/uploads/2016/08/Screen-Shot-2016-08-30-at-7.42.19-PM.png
END:VEVENT
END:VCALENDAR