BEGIN:VCALENDAR
VERSION:2.0
PRODID:-//Urban Milwaukee - ECPv4.6.9//NONSGML v1.0//EN
CALSCALE:GREGORIAN
METHOD:PUBLISH
X-WR-CALNAME:Urban Milwaukee
X-ORIGINAL-URL:https://urbanmilwaukee.com
X-WR-CALDESC:Events for Urban Milwaukee
BEGIN:VEVENT
DTSTART;TZID=America/Chicago:20200916T180000
DTEND;TZID=America/Chicago:20200916T190000
DTSTAMP:20260422T023552
CREATED:20200825T190936Z
LAST-MODIFIED:20200825T190936Z
UID:540015-1600279200-1600282800@urbanmilwaukee.com
SUMMARY:Rishi Tea & Botanicals Cocktail Class
DESCRIPTION:Learn how to craft unique cocktails using Rishi’s organic teas and botanical blends. The interactive online class will be hosted by the experts at Rishi Tea & Botanicals. The menu will include 2 cocktails featuring Great Lakes Distillery\, Rishi Tea\, and New Sparkling Botanicals by Rishi\, that will expand your at-home cocktail options for impressive but easy to create drinks! \nWhen you register\, you’ll receive access to the online Zoom class as well as a kit featuring the major ingredients you’ll need to make the featured cocktails! With easy pick up from Great Lakes Distillery\, your kit includes Rishi Tea & Botanicals products and liquor from Great Lakes Distillery. \nWhen: Wednesday\, September 16\, 6 p.m. \nWhere: Virtual Zoom meeting \nCost: $20 \nEnjoy great\, Milwaukee-made products and expand your horizons with this fun online class. Register soon\, as only the first 40 people to register will get a cocktail kit! \nPart of Valley Week 2020. \n
URL:https://urbanmilwaukee.com/event/rishi-tea-botanicals-cocktail-class/
CATEGORIES:Class,Food & Drink,Virtual
ATTACH;FMTTYPE=image/jpeg:https://urbanmilwaukee.com/wp-content/uploads/2020/08/GLD-cocktailclass.jpg
END:VEVENT
END:VCALENDAR